BEGIN:VCALENDAR
VERSION:2.0
PRODID:-//ChamberMaster//Event Calendar 2.0//EN
METHOD:PUBLISH
X-PUBLISHED-TTL:P1H
REFRESH-INTERVAL:P1H
CALSCALE:GREGORIAN
BEGIN:VTIMEZONE
TZID:America/New_York
BEGIN:DAYLIGHT
RRULE:FREQ=YEARLY;BYMONTH=3;BYDAY=2SU
DTSTART:20070101T000000
TZOFFSETFROM:-0500
TZOFFSETTO:-0400
TZNAME:Eastern Daylight Time
END:DAYLIGHT
BEGIN:STANDARD
RRULE:FREQ=YEARLY;BYMONTH=11;BYDAY=1SU
DTSTART:20070101T000000
TZOFFSETFROM:-0400
TZOFFSETTO:-0500
TZNAME:Eastern Standard Time
END:STANDARD
END:VTIMEZONE
BEGIN:VEVENT
DTSTART;VALUE=DATE:20260719
DTEND;VALUE=DATE:20260722
TRANSP:TRANSPARENT
X-MICROSOFT-CDO-ALLDAYEVENT:TRUE
SUMMARY:AMC 2026 - Activities Registration
DESCRIPTION:Join Us for Activities at AMC 2026!The Annual Management Conference Committee is pleased to offer the following optional events.Sunday\, July 19\, 2026Bourbon Tasting5:00 p.m.   6:00 p.m. | $100 per personJoin NCTA members for a guided bourbon tasting experience held at the Omni Homestead Resort. Four featured bourbons will be thoughtfully paired with a curated snack\, enhancing the overall tasting experience. Registration includes one etched nosing glass.Please note: This event is scheduled during a peak hotel check-in period. Attendees are encouraged to plan accordingly. Due to event guarantees\, registration must be paid for in advance and will not be refundable within two weeks of the event.Monday\, July 20\, 2026Spouse & Companion Brunch10:00 a.m.   11:30 a.m. | FREEJoin us for a delightful mimosa brunch for guest spouses and companions attending the NCTA Annual Management Conference.Free Night Dinner PairingsFREEInterested in finding a group for the free night dinner? We have you covered. Register to receive communications about Monday night dinner groups.Tuesday\, July 21\, 2026Annual Pickleball Tournament2:00 p.m.   5:00 p.m. | FREEJoin NCTA members for a friendly pickleball tournament. Never played? No problem pickleball is easy to learn\, and instruction will be provided. Register as an individual or as a team.Annual Cornhole Tournament2:00 p.m.   5:00 p.m. | FREEJoin NCTA members for our annual cornhole competition. Register as an individual or as a team.Explore the Omni Homestead ResortThe Omni Homestead Resort offers a wide range of activities and amenities\, including golf\, spa services\, outdoor adventures\, and more. Attendees interested in booking resort activities are encouraged to review options and make reservations in advance. View Resort Activities
X-ALT-DESC;FMTTYPE=text/html:<!DOCTYPE html><html><head><title></title></head><body aria-disabled="false"><div style="font-family: Arial\, Helvetica\, sans-serif\; color: #1f2d3d\; line-height: 1.6\; max-width: 900px\; margin: 0 auto\;"><h2 style="color: #003A8F\; border-bottom: 3px solid #4A90E2\; padding-bottom: 8px\;">Join Us for Activities at AMC 2026!</h2><p style="font-size: 16px\;">The Annual Management Conference Committee is pleased to offer the following optional events.</p><!-- Sunday --><div style="margin-top: 30px\;"><h3 style="color: #003A8F\; margin-bottom: 10px\;">Sunday\, July 19\, 2026</h3><h4 style="color: #1C5DB6\; margin-bottom: 5px\;">Bourbon Tasting</h4><p style="margin: 5px 0\; font-weight: bold\;">5:00 p.m. &ndash\; 6:00 p.m. | $100 per person</p><p>Join NCTA members for a guided bourbon tasting experience held at the <strong fr-original-style="" style="font-weight: 700\;">Omni Homestead Resort</strong>. Four featured bourbons will be thoughtfully paired with a curated snack\, enhancing the overall tasting experience. Registration includes one <strong fr-original-style="" style="font-weight: 700\;">etched nosing glass</strong>.</p><p style="background-color: #F1F6FC\; padding: 12px\; border-left: 4px solid #4A90E2\; font-size: 14px\;"><strong fr-original-style="" style="font-weight: 700\;">Please note:</strong> This event is scheduled during a peak hotel check-in period. Attendees are encouraged to plan accordingly. Due to event guarantees\, registration must be paid for in advance and will not be refundable within two weeks of the event.</p></div><!-- Monday --><div style="margin-top: 30px\;"><h3 style="color: #003A8F\; margin-bottom: 10px\;">Monday\, July 20\, 2026</h3><h4 style="color: #1C5DB6\; margin-bottom: 5px\;">Spouse &amp\; Companion Brunch</h4><p style="margin: 5px 0\; font-weight: bold\;">10:00 a.m. &ndash\; 11:30 a.m. | FREE</p><p>Join us for a delightful mimosa brunch for guest spouses and companions attending the NCTA Annual Management Conference.</p><h4 style="color: #1C5DB6\; margin-top: 20px\; margin-bottom: 5px\;">Free Night Dinner Pairings</h4><p style="margin: 5px 0\; font-weight: bold\;">FREE</p><p>Interested in finding a group for the free night dinner? We have you covered. Register to receive communications about Monday night dinner groups.</p></div><!-- Tuesday --><div style="margin-top: 30px\;"><h3 style="color: #003A8F\; margin-bottom: 10px\;">Tuesday\, July 21\, 2026</h3><h4 style="color: rgb(28\, 93\, 182)\; margin-bottom: 5px\;">Annual Pickleball Tournament</h4><p style="margin: 5px 0\; font-weight: bold\;">2:00 p.m. &ndash\; 5:00 p.m. | FREE</p><p>Join NCTA members for a friendly pickleball tournament. Never played? No problem&mdash\;pickleball is easy to learn\, and instruction will be provided. Register as an individual or as a team.</p><h4 style="color: rgb(28\, 93\, 182)\; margin-top: 20px\; margin-bottom: 5px\;">Annual Cornhole Tournament</h4><p style="margin: 5px 0\; font-weight: bold\;">2:00 p.m. &ndash\; 5:00 p.m. | FREE</p><p>Join NCTA members for our annual cornhole competition. Register as an individual or as a team.</p></div><!-- Resort Activities --><div style="margin-top: 40px\; background-color: #EEF4FB\; padding: 20px\; border-radius: 6px\;"><h3 style="color: #003A8F\; margin-top: 0\;">Explore the Omni Homestead Resort</h3><p>The Omni Homestead Resort offers a wide range of activities and amenities\, including golf\, spa services\, outdoor adventures\, and more. Attendees interested in booking resort activities are encouraged to review options and make reservations in advance.</p><p><a fr-original-style="color: #1C5DB6\; font-weight: bold\; text-decoration: none\;" href="https://www.omnihotels.com/hotels/homestead-virginia/things-to-do/resort-activities" style="color: rgb(28\, 93\, 182)\; font-weight: bold\; text-decoration: none\; user-select: auto\;" target="_blank">&nbsp\;View Resort Activities &raquo\;&nbsp\;</a></p></div></div></body></html>
LOCATION:7696 Sam Snead Highway Hot Springs VA 24445
UID:e.1219.1434410
SEQUENCE:3
DTSTAMP:20260426T012025Z
URL:https://members.nctrucking.com/events/Details/amc-2026-activities-registration-1697956?sourceTypeId=Hub
END:VEVENT
END:VCALENDAR
